BEGIN:VCALENDAR
VERSION:2.0
PRODID:-//Dom Tańca Poznań - ECPv6.15.16.1//NONSGML v1.0//EN
CALSCALE:GREGORIAN
METHOD:PUBLISH
X-ORIGINAL-URL:https://domtanca.poznan.pl
X-WR-CALDESC:Wydarzenia dla Dom Tańca Poznań
REFRESH-INTERVAL;VALUE=DURATION:PT1H
X-Robots-Tag:noindex
X-PUBLISHED-TTL:PT1H
BEGIN:VTIMEZONE
TZID:Europe/Warsaw
BEGIN:DAYLIGHT
TZOFFSETFROM:+0100
TZOFFSETTO:+0200
TZNAME:CEST
DTSTART:20240331T010000
END:DAYLIGHT
BEGIN:STANDARD
TZOFFSETFROM:+0200
TZOFFSETTO:+0100
TZNAME:CET
DTSTART:20241027T010000
END:STANDARD
BEGIN:DAYLIGHT
TZOFFSETFROM:+0100
TZOFFSETTO:+0200
TZNAME:CEST
DTSTART:20250330T010000
END:DAYLIGHT
BEGIN:STANDARD
TZOFFSETFROM:+0200
TZOFFSETTO:+0100
TZNAME:CET
DTSTART:20251026T010000
END:STANDARD
BEGIN:DAYLIGHT
TZOFFSETFROM:+0100
TZOFFSETTO:+0200
TZNAME:CEST
DTSTART:20260329T010000
END:DAYLIGHT
BEGIN:STANDARD
TZOFFSETFROM:+0200
TZOFFSETTO:+0100
TZNAME:CET
DTSTART:20261025T010000
END:STANDARD
END:VTIMEZONE
BEGIN:VEVENT
DTSTART;TZID=Europe/Warsaw:20250809T150000
DTEND;TZID=Europe/Warsaw:20250810T220000
DTSTAMP:20260420T201443
CREATED:20250723T193304Z
LAST-MODIFIED:20250913T115142Z
UID:845-1754751600-1754863200@domtanca.poznan.pl
SUMMARY:Dom Tańca Poznań w plenerze na Fyrtlu!
DESCRIPTION:  \n\n\n\nStowarzyszenie Dom Tańca Poznań zaprasza na dwudniowe\, plenerowe spotkanie z muzyką tradycyjną\, kulturą ludową i rękodziełem!\n\n\n\nCałość wydarzeń odbywać się będzie w przydworskim parku na Krzesinach\, na zainstalowanej w nim scenie z podłogą do tańca. \n\n\n\n\n\nSobota 9.08.2025 godz. 15:00 \n\n\n\nCzas trwania: 2 godziny \n\n\n\nProwadzenie: dr Joanna Sucholas \n\n\n\n\n\nSpacer etnobotaniczny wokół przyrody parku dworskiego w Krzesinach i wokół wiejskiego krajobrazu rolniczego Krzesin Dwugodzinne spotkanie w formie spaceru na wolnym powietrzu. Spacer odbywać się będzie w przydworskim parku i na terenie samych Krzesin. Podczas spotkania zostaną omówione rośliny i siedliska przyrodnicze\, które były istotne w życiu chłopów i ziemian\, jakie było ich znaczenie praktyczne jak również symboliczne\, obrzędowe\, magiczne i religijne. Liczba uczestników: do 35 osób\, nie obowiązują zapisy\, zbiórka przy krzyżu. \n\n\n\n\n\n  \n\n\n\n  \n\n\n\n  \n\n\n\nSobota 9.08.2025\, godz. 18:00  \n\n\n\nKoncert pieśni tradycyjnych połączony ze wspólnym śpiewaniem czas trwania: 2 godziny Wykonawcy: Piotr Braszak\, Dorota Kurkowicz\, Olga Łoś Koncert polskich pieśni ludowych połączony z formą spotkania śpiewaczego\, podczas których z pomocą śpiewników będzie można nauczyć się i wspólnie pośpiewać tradycyjne pieśni z różnych mikroregionów Polski. https://www.youtube.com/watch?v=rczI3oqpTI0 Koncert otworzy krótki występ Karola Majerowskiego – dudziarza\, wieloletniego członka Kapeli Dudziarzy CK Zamek w Poznaniu \n\n\n\nNiedziela 10.08.2025\, godz. 15:00 \n\n\n\nSpektakl dla dzieci i rodzin oparty o polską kulturę tradycyjną – rękodzieło\, muzykę\, opowieści. DAWNE ZABAWKI LUDOWE W POLSCE W trakcie spektaklu przybliżamy dzieciom dawne zabawki\, melodie i instrumenty muzyczne. Prezentujemy w interesujący i zabawny sposób ręcznie wykonane drewniane zabawki wyrzeźbione przez Piotra Rogalińskiego według dawnych wzorów. Sięgając do polskiego dziedzictwa kulturowego staramy się pokazać piękno i wartość twórczości ludowej dawnej Polski. Koncert aktywizujący i umuzykalniający dla dzieci stworzony w oparciu o polską muzykę tradycyjną. Koncert ten oprócz dzieci włącza w interakcję również całe rodziny. https://www.youtube.com/watch?v=szYN4VTuKZY \n\n\n\nCzas trwania 1 godzina \n\n\n\nWykonawcy: Piotr Rogaliński i Teofil Pawłowski – Kapela Odloty \n\n\n\nNiedziela 10.08.2025\, godz. 16:00  \n\n\n\nWarsztat tańców tradycyjnych Nauka oberka\, polki\, walczyka i innych tańców wiejskich\, miejskich i tradycyjnych z regionu Wielkopolski w formie niestylizowanej. Uczestnictwo w warsztatach ułatwi odbiorcom udział we wspólnej zabawie podczas koncertu do tańca. Liczba uczestników: do 50 osób\, nie obowiązują zapisy czas trwania 1 godzina \n\n\n\nProwadzenie: Karol Majerowski – członek Stowarzyszenia Dom Tańca Poznań \n\n\n\nNiedziela 10.08.2025\, godz. 17:00 \n\n\n\nKoncert do tańca z muzyką ludową na żywo Interaktywny koncert połączony z zabawą taneczną z muzyką na żywo z udziałem zespołów związanych z Domem Tańca Poznań. Uczestnicy będą mieli okazję posłuchać\, bawić się i tańczyć do melodii tradycyjnych pochodzących z wielkopolskich wsi. \n\n\n\nCzas trwania: 3 godziny \n\n\n\nWykonawcy: Rodzinna Kapela Hałasów (Poznań) – Jacek Hałas i Alicja Choromańska-Hałas to małżeństwo artystów zajmujących się od lat badaniem najciekawszych i najbardziej archaicznych form europejskiej muzyki\, tańca i rzemiosła. \n\n\n\nZajmują się muzyką instrumentalną\, tańcem korowodowym i wirowym\, tradycjami wędrownych śpiewaków\, sztuką opowieści\, działalnością warsztatową i edukacyjną. Zagrają razem z synami Jonaszem i Jakubem. Jacek Hałas – lira korbowa\, akordeon\, wokal\, prowadzenie tańców Alicja Choromańska – Hałas – baraban\, gardon\, Jonasz Hałas – trąbka\, Jakub Hałas – akordeon guzikowy https://www.youtube.com/watch?v=OzKVRbmbXis… \n\n\n\nRomuald Jędraszak (Poznań) – dudziarz\, kierownik Kapeli Dudziarzy Wielkopolskich CK Zamek w Poznaniu\, laureat Nagrody im. Oskara Kolberga 2018 https://www.youtube.com/watch?v=LLZ0ihCyBKE… Lunaria (Poznań/Łódź) – żywiołowy skład trzech charakternych muzykantek/transowy wir z nutą melancholii i szczyptą pieprzu. Laureatki Nagrody Narodowego Instytutu Fryderyka Chopina w konkursie Nowa Tradycja 2025 https://youtu.be/zk3AFGSLFVw?si=5hij8HJ0Utq1wpja Dominika Oczepa – skrzypce\, śpiew\, bęben obręczowy. Maria Stępień – skrzypce\, śpiew\, bęben obręczowy. Joanna Szaflik – bas\, śpiew\, bęben obręczowy.  \n\n\n\nScena zamontowana będzie przed neogotyckim Dworem. Spacery etnobotaniczne odbędą się na terenie parku i samych Krzesin. Wydarzenie będzie nawiązywać do wiejskiej historii Krzesin – będzie przypominać\, że dzielnica Krzesiny-Pokrzywno-Garaszewo była kiedyś wsią szlachecką i że z tego dziedzictwa możemy korzystać\, tworząc współczesne konteksty wspólnej kultury ludowej. \n\n\n\nSfinansowano ze środków Miasta Poznania w ramach Poznańskiego Budżetu Obywatelskiego na rok 2025 Projekt Kultura na Fyrtlach #poznanwspiera
URL:https://domtanca.poznan.pl/wydarzenie/dom-tanca-poznan-w-plenerze-na-fyrtlu/
LOCATION:Dworek na Krzesinach\, Krzesiny 13\, Poznań\, 61-321\, Polska
CATEGORIES:Gracze z łęgu,Koncert,Potańcówka,Śpiewy,Warsztat
ATTACH;FMTTYPE=image/jpeg:https://domtanca.poznan.pl/wp-content/uploads/2025/07/5be49c4e-be37-4ed1-ac17-ed06bf5a8844.jpeg
ORGANIZER;CN="Dom Ta%C5%84ca Pozna%C5%84":MAILTO:domtanca.poznan.pl
END:VEVENT
BEGIN:VEVENT
DTSTART;TZID=Europe/Warsaw:20250610T190000
DTEND;TZID=Europe/Warsaw:20250610T210000
DTSTAMP:20260420T201443
CREATED:20250603T131709Z
LAST-MODIFIED:20250723T234311Z
UID:668-1749582000-1749589200@domtanca.poznan.pl
SUMMARY:Otwarte spotkania śpiewacze z Karolem Majerowskim - Wędrujący Dom Tańca Poznań
DESCRIPTION:Zapraszamy na Otwarte spotkania śpiewacze Domu Tańca Poznań cykl czerwcowy w ramach projektu Wędrujący Dom Tańca Poznań.\nW każdy kolejny wtorek czerwca\, tak jak robimy to już od jakiegoś czasu w SARPie\, spotkamy się\, by wspólnie śpiewać\, muzykować\, tańczyć.\nZachęcamy do przyjścia z instrumentami akustycznymi\, szczególnie tradycyjnymi: skrzypce i inne instrumenty smyczkowe\, akordeony\, instrumenty dęte oraz przede wszystkim śpiew.\nBędziemy tworzyć wspólny repertuar w oparciu o naukę melodii ze słuchu\, w miarę potrzeby mogą pojawić się również nuty\n\n 	10.06 spotkanie poprowadzi Karol Majerowski\n 	17.06 spotkanie poprowadzi Stowarzyszenie Podkoziołek\n 	24.06 spotkanie poprowadzi Malwina Paszek\n\nProjekt Wędrujący Dom Tańca Poznań dofinansowano ze środków budżetowych Miasta Poznania. #poznanwspiera\nWstęp wolny.\n\nChcesz otrzymywać informacje o spotkaniach bezpośrednią drogą mailową? Napisz:\ndomtancapoznan@gmail.com
URL:https://domtanca.poznan.pl/wydarzenie/otwarte-spotkanie-domu-tanca-poznan-karol-majerowski/
LOCATION:SARP\, Stary Rynek 56\, Poznań\, Polska
CATEGORIES:Gracze z łęgu,Otwarte Spotkania DTP 2025,Śpiewy,Wędrujący Dom Tańca,Wędrujący Dom Tańca 2025
ATTACH;FMTTYPE=image/png:https://domtanca.poznan.pl/wp-content/uploads/2025/06/Km.png
ORGANIZER;CN="Dom Ta%C5%84ca Pozna%C5%84":MAILTO:domtanca.poznan.pl
END:VEVENT
END:VCALENDAR