BEGIN:VCALENDAR
VERSION:2.0
PRODID:-//Dom Tańca Poznań - ECPv6.15.16.1//NONSGML v1.0//EN
CALSCALE:GREGORIAN
METHOD:PUBLISH
X-ORIGINAL-URL:https://domtanca.poznan.pl
X-WR-CALDESC:Wydarzenia dla Dom Tańca Poznań
REFRESH-INTERVAL;VALUE=DURATION:PT1H
X-Robots-Tag:noindex
X-PUBLISHED-TTL:PT1H
BEGIN:VTIMEZONE
TZID:Europe/Warsaw
BEGIN:DAYLIGHT
TZOFFSETFROM:+0100
TZOFFSETTO:+0200
TZNAME:CEST
DTSTART:20240331T010000
END:DAYLIGHT
BEGIN:STANDARD
TZOFFSETFROM:+0200
TZOFFSETTO:+0100
TZNAME:CET
DTSTART:20241027T010000
END:STANDARD
BEGIN:DAYLIGHT
TZOFFSETFROM:+0100
TZOFFSETTO:+0200
TZNAME:CEST
DTSTART:20250330T010000
END:DAYLIGHT
BEGIN:STANDARD
TZOFFSETFROM:+0200
TZOFFSETTO:+0100
TZNAME:CET
DTSTART:20251026T010000
END:STANDARD
BEGIN:DAYLIGHT
TZOFFSETFROM:+0100
TZOFFSETTO:+0200
TZNAME:CEST
DTSTART:20260329T010000
END:DAYLIGHT
BEGIN:STANDARD
TZOFFSETFROM:+0200
TZOFFSETTO:+0100
TZNAME:CET
DTSTART:20261025T010000
END:STANDARD
BEGIN:DAYLIGHT
TZOFFSETFROM:+0100
TZOFFSETTO:+0200
TZNAME:CEST
DTSTART:20270328T010000
END:DAYLIGHT
BEGIN:STANDARD
TZOFFSETFROM:+0200
TZOFFSETTO:+0100
TZNAME:CET
DTSTART:20271031T010000
END:STANDARD
END:VTIMEZONE
BEGIN:VEVENT
DTSTART;TZID=Europe/Warsaw:20260217T190000
DTEND;TZID=Europe/Warsaw:20260217T190000
DTSTAMP:20260420T201931
CREATED:20260210T082621Z
LAST-MODIFIED:20260210T082726Z
UID:1311-1771354800-1771354800@domtanca.poznan.pl
SUMMARY:Potańcówka w Podkoziołek
DESCRIPTION:Zabawa taneczna z okazji ostatniego dnia karnawału\, z tej okazji można przybyć w odświętnym i/lub nietypowym stroju/masce. Cokolwiek pomoże Ci się poczuć wyjątkowo dobrze na parkiecie. Nie trzeba umieć tańczyć\, warto próbować. Będą również prowadzone tańce korowodowe.\n\nZagrają kapele Domu Tańca:\nKapela Odloty (duo)Przodki (!)Karol Majerowski (dudy wielkopolskie)Witold Roy Zalewski\n\nIstnieje duża szansa że zabawa przedłuży się do północy! Wszystko zależy od tancerzy.\nWejście darmowe. Dom Tańca będzie zbierał datki na cele statutowe\, prosimy o zabranie gotówki.
URL:https://domtanca.poznan.pl/wydarzenie/potancowka-w-podkoziolek/
LOCATION:SARP\, Stary Rynek 56\, Poznań\, Polska
CATEGORIES:Koncert
ATTACH;FMTTYPE=image/jpeg:https://domtanca.poznan.pl/wp-content/uploads/2026/02/624517398_1397866052076802_7416679250675775655_n1.jpg
ORGANIZER;CN="Dom Ta%C5%84ca Pozna%C5%84":MAILTO:domtanca.poznan.pl
END:VEVENT
BEGIN:VEVENT
DTSTART;TZID=Europe/Warsaw:20250603T190000
DTEND;TZID=Europe/Warsaw:20250603T203000
DTSTAMP:20260420T201931
CREATED:20250603T131249Z
LAST-MODIFIED:20250603T222352Z
UID:665-1748977200-1748982600@domtanca.poznan.pl
SUMMARY:Otwarte spotkanie Domu Tańca Poznań - Potańc z Teofilem z Katowic
DESCRIPTION:Teofil z Katowic zagra i zaśpiewa do tańca.\nSARP g.19:00\, 03.06.2025\, wstęp do kapelusza.\nOtwarte spotkanie Domu Tańca Poznań jak w każdy wtorek – przybywajcie!\n\nKapela Odloty
URL:https://domtanca.poznan.pl/wydarzenie/dtp2025-06-03/
LOCATION:SARP\, Stary Rynek 56\, Poznań\, Polska
ATTACH;FMTTYPE=image/jpeg:https://domtanca.poznan.pl/wp-content/uploads/2025/06/494726759_1150412060461093_827902691851832849_n.jpg
ORGANIZER;CN="Dom Ta%C5%84ca Pozna%C5%84":MAILTO:domtanca.poznan.pl
END:VEVENT
END:VCALENDAR